BEGIN:VCALENDAR
VERSION:2.0
PRODID:-//SCDD - ECPv6.15.19//NONSGML v1.0//EN
CALSCALE:GREGORIAN
METHOD:PUBLISH
X-ORIGINAL-URL:https://scdd.ca.gov
X-WR-CALDESC:Events for SCDD
REFRESH-INTERVAL;VALUE=DURATION:PT1H
X-Robots-Tag:noindex
X-PUBLISHED-TTL:PT1H
BEGIN:VTIMEZONE
TZID:America/Los_Angeles
BEGIN:DAYLIGHT
TZOFFSETFROM:-0800
TZOFFSETTO:-0700
TZNAME:PDT
DTSTART:20220313T100000
END:DAYLIGHT
BEGIN:STANDARD
TZOFFSETFROM:-0700
TZOFFSETTO:-0800
TZNAME:PST
DTSTART:20221106T090000
END:STANDARD
BEGIN:DAYLIGHT
TZOFFSETFROM:-0800
TZOFFSETTO:-0700
TZNAME:PDT
DTSTART:20230312T100000
END:DAYLIGHT
BEGIN:STANDARD
TZOFFSETFROM:-0700
TZOFFSETTO:-0800
TZNAME:PST
DTSTART:20231105T090000
END:STANDARD
BEGIN:DAYLIGHT
TZOFFSETFROM:-0800
TZOFFSETTO:-0700
TZNAME:PDT
DTSTART:20240310T100000
END:DAYLIGHT
BEGIN:STANDARD
TZOFFSETFROM:-0700
TZOFFSETTO:-0800
TZNAME:PST
DTSTART:20241103T090000
END:STANDARD
BEGIN:DAYLIGHT
TZOFFSETFROM:-0800
TZOFFSETTO:-0700
TZNAME:PDT
DTSTART:20250309T100000
END:DAYLIGHT
BEGIN:STANDARD
TZOFFSETFROM:-0700
TZOFFSETTO:-0800
TZNAME:PST
DTSTART:20251102T090000
END:STANDARD
BEGIN:DAYLIGHT
TZOFFSETFROM:-0800
TZOFFSETTO:-0700
TZNAME:PDT
DTSTART:20260308T100000
END:DAYLIGHT
BEGIN:STANDARD
TZOFFSETFROM:-0700
TZOFFSETTO:-0800
TZNAME:PST
DTSTART:20261101T090000
END:STANDARD
END:VTIMEZONE
BEGIN:VEVENT
DTSTART;VALUE=DATE:20251202
DTEND;VALUE=DATE:20251203
DTSTAMP:20260422T022701
CREATED:20250114T195423Z
LAST-MODIFIED:20250114T195423Z
UID:363463-1764633600-1764719999@scdd.ca.gov
SUMMARY:2025 Statewide Self-Determination Advisory Committee (SSDAC) Meeting
DESCRIPTION:Listen
URL:https://scdd.ca.gov/event/2025-statewide-self-determination-advisory-committee-meeting/2025-12-02/
LOCATION:Zoom
CATEGORIES:Meetings & Chats
ORGANIZER;CN="Robin Maitino":MAILTO:robin.maitino@scdd.ca.gov
END:VEVENT
BEGIN:VEVENT
DTSTART;VALUE=DATE:20250909
DTEND;VALUE=DATE:20250910
DTSTAMP:20260422T022701
CREATED:20250114T195423Z
LAST-MODIFIED:20250613T184925Z
UID:363437-1757376000-1757462399@scdd.ca.gov
SUMMARY:2025 Statewide Self-Determination Advisory Committee (SSDAC) Meeting
DESCRIPTION:Listen
URL:https://scdd.ca.gov/event/2025-statewide-self-determination-advisory-committee-meeting/2025-09-09/
LOCATION:Zoom
CATEGORIES:Meetings & Chats
ORGANIZER;CN="Robin Maitino":MAILTO:robin.maitino@scdd.ca.gov
END:VEVENT
BEGIN:VEVENT
DTSTART;VALUE=DATE:20250624
DTEND;VALUE=DATE:20250625
DTSTAMP:20260422T022701
CREATED:20250114T195423Z
LAST-MODIFIED:20250613T205127Z
UID:364203-1750723200-1750809599@scdd.ca.gov
SUMMARY:2025 Statewide Self-Determination Advisory Committee (SSDAC) Meeting
DESCRIPTION:Listen
URL:https://scdd.ca.gov/event/2025-statewide-self-determination-advisory-committee-meeting/2025-06-24/
LOCATION:Zoom
CATEGORIES:Meetings & Chats
ORGANIZER;CN="Robin Maitino":MAILTO:robin.maitino@scdd.ca.gov
END:VEVENT
BEGIN:VEVENT
DTSTART;VALUE=DATE:20250219
DTEND;VALUE=DATE:20250220
DTSTAMP:20260422T022701
CREATED:20250114T195423Z
LAST-MODIFIED:20250613T184924Z
UID:363374-1739923200-1740009599@scdd.ca.gov
SUMMARY:2025 Statewide Self-Determination Advisory Committee (SSDAC) Meeting
DESCRIPTION:Listen
URL:https://scdd.ca.gov/event/2025-statewide-self-determination-advisory-committee-meeting/2025-02-19/
LOCATION:Zoom
CATEGORIES:Meetings & Chats
ORGANIZER;CN="Robin Maitino":MAILTO:robin.maitino@scdd.ca.gov
END:VEVENT
BEGIN:VEVENT
DTSTART;VALUE=DATE:20231109
DTEND;VALUE=DATE:20231110
DTSTAMP:20260422T022701
CREATED:20230104T222448Z
LAST-MODIFIED:20231024T213857Z
UID:358480-1699488000-1699574399@scdd.ca.gov
SUMMARY:2023 Membership Committee Meeting
DESCRIPTION:Listen
URL:https://scdd.ca.gov/event/2023-membership-committee-meeting/
LOCATION:Zoom
CATEGORIES:Meetings & Chats
ORGANIZER;CN="Robin Maitino":MAILTO:robin.maitino@scdd.ca.gov
END:VEVENT
BEGIN:VEVENT
DTSTART;VALUE=DATE:20230321
DTEND;VALUE=DATE:20230322
DTSTAMP:20260422T022701
CREATED:20230104T223326Z
LAST-MODIFIED:20230104T223326Z
UID:358506-1679356800-1679443199@scdd.ca.gov
SUMMARY:2023 Administrative Committee Meeting
DESCRIPTION:Listen
URL:https://scdd.ca.gov/event/2023-administrative-committee-meeting/
LOCATION:Zoom
CATEGORIES:Meetings & Chats
ORGANIZER;CN="Robin Maitino":MAILTO:robin.maitino@scdd.ca.gov
END:VEVENT
BEGIN:VEVENT
DTSTART;VALUE=DATE:20230209
DTEND;VALUE=DATE:20230210
DTSTAMP:20260422T022701
CREATED:20230104T222957Z
LAST-MODIFIED:20230504T183554Z
UID:358496-1675900800-1675987199@scdd.ca.gov
SUMMARY:2023 Statewide Self-Determination Advisory Committee (SSDAC) Meeting
DESCRIPTION:Listen
URL:https://scdd.ca.gov/event/2023-state-self-determination-advisory-committee-ssdac-meeting/2023-02-09/
LOCATION:Zoom
CATEGORIES:Meetings & Chats
ORGANIZER;CN="Robin Maitino":MAILTO:robin.maitino@scdd.ca.gov
END:VEVENT
END:VCALENDAR