BEGIN:VCALENDAR
VERSION:2.0
PRODID:-//SCDD - ECPv6.15.19//NONSGML v1.0//EN
CALSCALE:GREGORIAN
METHOD:PUBLISH
X-ORIGINAL-URL:https://scdd.ca.gov
X-WR-CALDESC:Events for SCDD
REFRESH-INTERVAL;VALUE=DURATION:PT1H
X-Robots-Tag:noindex
X-PUBLISHED-TTL:PT1H
BEGIN:VTIMEZONE
TZID:America/Los_Angeles
BEGIN:DAYLIGHT
TZOFFSETFROM:-0800
TZOFFSETTO:-0700
TZNAME:PDT
DTSTART:20240310T100000
END:DAYLIGHT
BEGIN:STANDARD
TZOFFSETFROM:-0700
TZOFFSETTO:-0800
TZNAME:PST
DTSTART:20241103T090000
END:STANDARD
BEGIN:DAYLIGHT
TZOFFSETFROM:-0800
TZOFFSETTO:-0700
TZNAME:PDT
DTSTART:20250309T100000
END:DAYLIGHT
BEGIN:STANDARD
TZOFFSETFROM:-0700
TZOFFSETTO:-0800
TZNAME:PST
DTSTART:20251102T090000
END:STANDARD
BEGIN:DAYLIGHT
TZOFFSETFROM:-0800
TZOFFSETTO:-0700
TZNAME:PDT
DTSTART:20260308T100000
END:DAYLIGHT
BEGIN:STANDARD
TZOFFSETFROM:-0700
TZOFFSETTO:-0800
TZNAME:PST
DTSTART:20261101T090000
END:STANDARD
END:VTIMEZONE
BEGIN:VEVENT
DTSTART;TZID=America/Los_Angeles:20250408T173000
DTEND;TZID=America/Los_Angeles:20250408T193000
DTSTAMP:20260423T020634
CREATED:20250114T200403Z
LAST-MODIFIED:20250114T200403Z
UID:363390-1744133400-1744140600@scdd.ca.gov
SUMMARY:Sacramento Regional Advisory Committee (RAC) Meeting
DESCRIPTION:Listen
URL:https://scdd.ca.gov/event/sacramento-regional-advisory-committee-rac-meeting-5/
LOCATION:Zoom
CATEGORIES:Meetings & Chats
ORGANIZER;CN="Lisa Hooks":MAILTO:Lisa.Hooks@scdd.ca.gov
END:VEVENT
BEGIN:VEVENT
DTSTART;TZID=America/Los_Angeles:20250410T100000
DTEND;TZID=America/Los_Angeles:20250410T110000
DTSTAMP:20260423T020634
CREATED:20250114T194434Z
LAST-MODIFIED:20250114T194434Z
UID:363392-1744279200-1744282800@scdd.ca.gov
SUMMARY:2025 Disability Advisory Committee Meeting
DESCRIPTION:Listen
URL:https://scdd.ca.gov/event/2025-disability-advisory-committee-meeting/2025-04-10/
LOCATION:Zoom
CATEGORIES:Internal
END:VEVENT
BEGIN:VEVENT
DTSTART;TZID=America/Los_Angeles:20250411T130000
DTEND;TZID=America/Los_Angeles:20250411T150000
DTSTAMP:20260423T020634
CREATED:20250304T214543Z
LAST-MODIFIED:20250304T214543Z
UID:363728-1744376400-1744383600@scdd.ca.gov
SUMMARY:North State Regional Advisory Committee (RAC) Meeting
DESCRIPTION:Listen
URL:https://scdd.ca.gov/event/north-state-regional-advisory-committee-rac-meeting-6/
LOCATION:Zoom
CATEGORIES:Meetings & Chats
END:VEVENT
BEGIN:VEVENT
DTSTART;VALUE=DATE:20250415
DTEND;VALUE=DATE:20250416
DTSTAMP:20260423T020634
CREATED:20250114T195221Z
LAST-MODIFIED:20250114T204417Z
UID:363396-1744675200-1744761599@scdd.ca.gov
SUMMARY:2025 Executive Committee Meeting
DESCRIPTION:Listen
URL:https://scdd.ca.gov/event/2025-executive-committee-meeting/2025-04-15/
LOCATION:Zoom
CATEGORIES:Meetings & Chats
END:VEVENT
BEGIN:VEVENT
DTSTART;VALUE=DATE:20250423
DTEND;VALUE=DATE:20250424
DTSTAMP:20260423T020634
CREATED:20250415T001333Z
LAST-MODIFIED:20250415T001436Z
UID:364049-1745366400-1745452799@scdd.ca.gov
SUMMARY:2025 State Plan Committee (SPC) Meeting
DESCRIPTION:Listen\n        \n        Join Zoom Meeting \nhttps://us02web.zoom.us/j/83510967178?pwd=MN9hWu1mefzRRbHg4M20FTKRj9sbte.1 \nMeeting ID: 835 1096 7178 \nPasscode: 757574
URL:https://scdd.ca.gov/event/2025-state-plan-committee-spc-meeting/
LOCATION:Zoom
CATEGORIES:Meetings & Chats
END:VEVENT
BEGIN:VEVENT
DTSTART;TZID=America/Los_Angeles:20250430T173000
DTEND;TZID=America/Los_Angeles:20250430T200000
DTSTAMP:20260423T020634
CREATED:20250416T201910Z
LAST-MODIFIED:20250416T201910Z
UID:364057-1746034200-1746043200@scdd.ca.gov
SUMMARY:Bay Area Regional Office: Community Outreach & Regional Advisory Committee (RAC) Meeting
DESCRIPTION:Listen
URL:https://scdd.ca.gov/event/bay-area-regional-office-community-outreach-regional-advisory-committee-rac-meeting-2/
LOCATION:Zoom
CATEGORIES:Meetings & Chats
END:VEVENT
END:VCALENDAR