BEGIN:VCALENDAR
VERSION:2.0
PRODID:-//SCDD - ECPv6.15.19//NONSGML v1.0//EN
CALSCALE:GREGORIAN
METHOD:PUBLISH
X-ORIGINAL-URL:https://scdd.ca.gov
X-WR-CALDESC:Events for SCDD
REFRESH-INTERVAL;VALUE=DURATION:PT1H
X-Robots-Tag:noindex
X-PUBLISHED-TTL:PT1H
BEGIN:VTIMEZONE
TZID:America/Los_Angeles
BEGIN:DAYLIGHT
TZOFFSETFROM:-0800
TZOFFSETTO:-0700
TZNAME:PDT
DTSTART:20240310T100000
END:DAYLIGHT
BEGIN:STANDARD
TZOFFSETFROM:-0700
TZOFFSETTO:-0800
TZNAME:PST
DTSTART:20241103T090000
END:STANDARD
BEGIN:DAYLIGHT
TZOFFSETFROM:-0800
TZOFFSETTO:-0700
TZNAME:PDT
DTSTART:20250309T100000
END:DAYLIGHT
BEGIN:STANDARD
TZOFFSETFROM:-0700
TZOFFSETTO:-0800
TZNAME:PST
DTSTART:20251102T090000
END:STANDARD
BEGIN:DAYLIGHT
TZOFFSETFROM:-0800
TZOFFSETTO:-0700
TZNAME:PDT
DTSTART:20260308T100000
END:DAYLIGHT
BEGIN:STANDARD
TZOFFSETFROM:-0700
TZOFFSETTO:-0800
TZNAME:PST
DTSTART:20261101T090000
END:STANDARD
END:VTIMEZONE
BEGIN:VEVENT
DTSTART;TZID=America/Los_Angeles:20250602T170000
DTEND;TZID=America/Los_Angeles:20250602T190000
DTSTAMP:20260423T020324
CREATED:20250515T173842Z
LAST-MODIFIED:20250515T173842Z
UID:364200-1748883600-1748890800@scdd.ca.gov
SUMMARY:Proceso de Apelación del Centro Regional
DESCRIPTION:Listen\n        \n        Folleto del evento (español)\nAcompáñenos para aprender sobre el proceso de apelaciones (\nfair hearing\, en\ningles)\, también conocido como audiencia justa — la herramienta formal para\nresolver desacuerdos con el centro regional sobre los servicios.\nEste entrenamiento está diseñado para que las familias conozcan sus derechos\,\naprendan cómo mantener los servicios que necesitan y sepan como responder\nsi hay cambios en sus servicios o apoyos. ¡Infórmese y prepárese para abogar\nde manera efectiva por los apoyos que su familia necesita!\n¡Todos son Bienvenidos!\nNo se necesita registración
URL:https://scdd.ca.gov/event/proceso-de-apelacion-del-centro-regional-2/
CATEGORIES:Trainings
END:VEVENT
END:VCALENDAR